BEGIN:VCALENDAR
PRODID:-//eluceo/ical//2.0/EN
VERSION:2.0
CALSCALE:GREGORIAN
BEGIN:VEVENT
UID:762ef36f55d108b57f8e2eab610cfde8
DTSTAMP:20260424T113438Z
SUMMARY:Komplexe Programmgestaltung
DESCRIPTION:Website: https://teams.microsoft.com/l/meetup-join/19%3ameeting
 _NzE2YjU0NTItMDViZS00MTM4LWFiZDMtZDljOGU1NTRmMmE3%40thread.v2/0?context=%7
 b%22Tid%22%3a%2247f70cce-39c7-4372-b69c-3b3c17457fbc%22%2c%22Oid%22%3a%222
 3d8b83e-dbfd-4a60-9499-665dcda4a50f%22%7d\nSprekers: Klaus Prokop - Michae
 l Willi Polaris AcademyWebinar in deutscher Sprache  /  Webinar in Germ
 an
URL:https://polaris-academy.org/nl/agenda/show/207419
DTSTART;TZID=Europe/Zurich:20260915T183000
DTEND;TZID=Europe/Zurich:20260915T183000
LOCATION:Online
CATEGORIES:Rotary
END:VEVENT
BEGIN:VTIMEZONE
TZID:Europe/Zurich
BEGIN:DAYLIGHT
DTSTART:20260915T183000
TZNAME:CEST
TZOFFSETTO:+0200
TZOFFSETFROM:+0200
END:DAYLIGHT
END:VTIMEZONE
END:VCALENDAR
