BEGIN:VCALENDAR
PRODID:-//eluceo/ical//2.0/EN
VERSION:2.0
CALSCALE:GREGORIAN
BEGIN:VEVENT
UID:8d0ab8e5c228c6943d72bf92edaadc8c
DTSTAMP:20260421T144121Z
SUMMARY:Nouveautés - questions à votre modérateur
DESCRIPTION:Sito web: https://teams.microsoft.com/meet/32570504189471?p=as4
 S8pWrvqkdqp3wD8\nRelatore/i: Estelle Ducept - Laurent Gaube- Joachim Dumon
  - Franck-Olivier DenayerAcadémie PolarisWebinaire en langue française
URL:https://polaris-academy.org/it/agenda/show/211644
DTSTART;TZID=Europe/Zurich:20261110T183000
DTEND;TZID=Europe/Zurich:20261110T193000
LOCATION:En ligne
CATEGORIES:Rotary
END:VEVENT
BEGIN:VTIMEZONE
TZID:Europe/Zurich
BEGIN:STANDARD
DTSTART:20261110T183000
TZNAME:CET
TZOFFSETTO:+0100
TZOFFSETFROM:+0100
END:STANDARD
END:VTIMEZONE
END:VCALENDAR
