BEGIN:VCALENDAR
PRODID:-//eluceo/ical//2.0/EN
VERSION:2.0
CALSCALE:GREGORIAN
BEGIN:VEVENT
UID:f162634eb88b8336193810776e5dbd22
DTSTAMP:20260419T171838Z
SUMMARY:Neuerungen: Fragen Sie Ihren Polaris-Trainer
DESCRIPTION:Vefsíða: https://teams.microsoft.com/l/meetup-join/19%3ameeti
 ng_N2ZjNDdjNzctOTM4ZS00N2E0LWFlZmEtNGMyZWI4MDA5Y2Vm%40thread.v2/0?context=
 %7b%22Tid%22%3a%2247f70cce-39c7-4372-b69c-3b3c17457fbc%22%2c%22Oid%22%3a%2
 223d8b83e-dbfd-4a60-9499-665dcda4a50f%22%7d\nFyrirlesari(ar): Klaus Prokop
  - Michael Willi Polaris AcademyWebinar in deutscher Sprache  /  Webina
 r in German
URL:https://polaris-academy.org/is/agenda/show/207880
DTSTART;TZID=Europe/Zurich:20261110T183000
DTEND;TZID=Europe/Zurich:20261110T193000
LOCATION:Online
CATEGORIES:Rotary
END:VEVENT
BEGIN:VTIMEZONE
TZID:Europe/Zurich
BEGIN:STANDARD
DTSTART:20261110T183000
TZNAME:CET
TZOFFSETTO:+0100
TZOFFSETFROM:+0100
END:STANDARD
END:VTIMEZONE
END:VCALENDAR
