BEGIN:VCALENDAR
PRODID:-//eluceo/ical//2.0/EN
VERSION:2.0
CALSCALE:GREGORIAN
BEGIN:VEVENT
UID:deb88cac6f59ee8485c769f8d3b4db64
DTSTAMP:20260424T082355Z
SUMMARY:Gestion du programme fonctions avancées
DESCRIPTION:Site internet: https://teams.microsoft.com/meet/37475850453289?
 p=9AfQoCfpFqgrurHeXt\nConférencier(s): Estelle Ducept - Laurent Gaube- Jo
 achim Dumon - Franck-Olivier DenayerAcadémie PolarisWebinaire en langue f
 rançaise
URL:https://polaris-academy.org/fr/agenda/show/211534
DTSTART;TZID=Europe/Zurich:20260916T183000
DTEND;TZID=Europe/Zurich:20260916T193000
LOCATION:En ligne
CATEGORIES:Rotary
END:VEVENT
BEGIN:VTIMEZONE
TZID:Europe/Zurich
BEGIN:DAYLIGHT
DTSTART:20260916T183000
TZNAME:CEST
TZOFFSETTO:+0200
TZOFFSETFROM:+0200
END:DAYLIGHT
END:VTIMEZONE
END:VCALENDAR
